BEGIN:VCALENDAR
VERSION:2.0
PRODID:-//愛知県豊橋市の産婦人科・小児科 - 小石マタニティクリニック - ECPv5.14.1//NONSGML v1.0//EN
CALSCALE:GREGORIAN
METHOD:PUBLISH
X-WR-CALNAME:愛知県豊橋市の産婦人科・小児科 - 小石マタニティクリニック
X-ORIGINAL-URL:https://www.koishi.or.jp
X-WR-CALDESC:Events for 愛知県豊橋市の産婦人科・小児科 - 小石マタニティクリニック
REFRESH-INTERVAL;VALUE=DURATION:PT1H
X-Robots-Tag:noindex
X-PUBLISHED-TTL:PT1H
BEGIN:VTIMEZONE
TZID:Asia/Tokyo
BEGIN:STANDARD
TZOFFSETFROM:+0900
TZOFFSETTO:+0900
TZNAME:JST
DTSTART:20260101T000000
END:STANDARD
END:VTIMEZONE
BEGIN:VEVENT
DTSTART;VALUE=DATE:20260330
DTEND;VALUE=DATE:20260413
DTSTAMP:20260419T215346
CREATED:20260330T001705Z
LAST-MODIFIED:20260330T013530Z
UID:4162-1774828800-1776038399@www.koishi.or.jp
SUMMARY:~小石クリニックpresents ~ママ・パパとお腹の赤ちゃんに贈る 胎教コンサート配信のご案内
DESCRIPTION:３月２２日(日)、院内にて“胎教コンサート”を開催いたしました。\nそのコンサートの模様をYouTubeにて配信いたします。 \nお腹の赤ちゃんもノリにノってしまう？！リズミカルな曲、トレンドの楽曲、胎教にまつわる曲（キックゲームのうた）などなど、お腹の赤ちゃん、ご家族様みんなで楽しんで頂けるプログラムが盛りだくさんです！ \nぜひ、皆様一緒にご視聴下さい。そしてご視聴後は、アンケートの回答にご協力をお願い致します♡ \n☆配信期間：２０２６年３月３０日(月) ～ ４月１２日(日) \n☆プログラムはこちら \n  \n～ご視聴にあたっての注意事項～ \n・期間中は何度でもご視聴頂けますが、第三者に公開することは固くお断り致します。 \n・動画の撮影、録音は一切禁止致します。 \nご了承下さいませ。 \n  \n☆ご視聴にあたり、ご質問等ございましたらお気軽にご連絡下さいませ。 \n医療法人　小石マタニティクリニック \n総務部　０５３２－６３－８１２０ \n 
URL:https://www.koishi.or.jp/event/tribe_events-4162/
END:VEVENT
BEGIN:VEVENT
DTSTART;TZID=Asia/Tokyo:20260410T110000
DTEND;TZID=Asia/Tokyo:20260410T120000
DTSTAMP:20260419T215346
CREATED:20221101T051017Z
LAST-MODIFIED:20260302T034227Z
UID:1981-1775818800-1775822400@www.koishi.or.jp
SUMMARY:マタニティフィットネス/対面
DESCRIPTION:安産に大変効果的なエクササイズです。\nリズムにのって体を動かし、楽しく妊娠管理ができます。\n妊娠16週目から始めることをお勧めしており、週2回が理想的です。 \n＜対象＞\n妊娠５ヶ月以降の妊婦様 \n＜持ち物＞\n□　動きやすい服装\n□　タオル\n□　飲物等\n□　室内シューズ \n＜料金＞\n無料 \n＜注意事項＞\n初めて受講される方には医師の問診が必要です。（マタニティヨーガまたはマタニティウォーキングで医師の問診がお済みの方は不要） \n＠リンクまたは受付、お電話にてお申込み下さい。
URL:https://www.koishi.or.jp/event/tribe_events-1981/
CATEGORIES:対面教室
ATTACH;FMTTYPE=image/png:https://www.koishi.or.jp/wp-content/uploads/2022/11/アイキャッチ用.png
END:VEVENT
BEGIN:VEVENT
DTSTART;TZID=Asia/Tokyo:20260410T124500
DTEND;TZID=Asia/Tokyo:20260410T134500
DTSTAMP:20260419T215346
CREATED:20221101T051529Z
LAST-MODIFIED:20260302T042050Z
UID:1985-1775825100-1775828700@www.koishi.or.jp
SUMMARY:アフタービクス/対面
DESCRIPTION:産後の体力低下、体型の維持、ストレス解消、乳汁分泌の促進に効果的な運動です。 \n＜対象＞\n産後2ヶ月～1年半のお母様\n※お子様も一緒にご参加可 \n＜持ち物＞\n□　室内シューズ\n□　動きやすい服装\n□　タオル\n□　飲物等 \n＜料金＞\n有料（チケット制）\n受付にて事前に共通チケット（1枚1\,000円）のご購入をお願い致します。\n※退院時にプレゼント致しましたアフタービクスチケットをご利用いただけます。 \n＠リンクまたは受付、お電話にてお申込み下さい。
URL:https://www.koishi.or.jp/event/tribe_events-1985/
CATEGORIES:対面教室
ATTACH;FMTTYPE=image/png:https://www.koishi.or.jp/wp-content/uploads/2024/02/アイキャッチ用.png
END:VEVENT
END:VCALENDAR