BEGIN:VCALENDAR
VERSION:2.0
PRODID:-//愛知県豊橋市の産婦人科・小児科 - 小石マタニティクリニック - ECPv5.14.1//NONSGML v1.0//EN
CALSCALE:GREGORIAN
METHOD:PUBLISH
X-WR-CALNAME:愛知県豊橋市の産婦人科・小児科 - 小石マタニティクリニック
X-ORIGINAL-URL:https://www.koishi.or.jp
X-WR-CALDESC:Events for 愛知県豊橋市の産婦人科・小児科 - 小石マタニティクリニック
REFRESH-INTERVAL;VALUE=DURATION:PT1H
X-Robots-Tag:noindex
X-PUBLISHED-TTL:PT1H
BEGIN:VTIMEZONE
TZID:Asia/Tokyo
BEGIN:STANDARD
TZOFFSETFROM:+0900
TZOFFSETTO:+0900
TZNAME:JST
DTSTART:20260101T000000
END:STANDARD
END:VTIMEZONE
BEGIN:VEVENT
DTSTART;TZID=Asia/Tokyo:20260417T100000
DTEND;TZID=Asia/Tokyo:20260417T120000
DTSTAMP:20260423T192136
CREATED:20240507T065913Z
LAST-MODIFIED:20260302T030226Z
UID:5127-1776420000-1776427200@www.koishi.or.jp
SUMMARY:ハッピーママ教室（後期）/対面
DESCRIPTION:落ち着いた素晴らしい分娩をむかえられるよう、妊娠中の過ごし方から分娩の方法まで指導致します。\n日本ソフロロジー法研究会はこちら \n＜対象＞\n妊娠8～9ヶ月の妊婦様と立合いを希望されるご主人様 \n＜持ち物＞\n□　母子健康手帳\n□　筆記用具\n□　ファイル一式\n□　ズボン \n＜料金＞\n無料 \n＜注意事項＞\n・お子様連れでのご受講はご遠慮いただいております。\n・保育士によるお子様の預かりご希望の方は、完全予約制にて承ります。詳しくはこちらをご確認下さい。 \n＠リンクまたは受付、お電話にてお申込み下さい。
URL:https://www.koishi.or.jp/event/tribe_events-5127/
ATTACH;FMTTYPE=image/jpeg:https://www.koishi.or.jp/wp-content/uploads/2022/07/happymamakouki.jpg
END:VEVENT
BEGIN:VEVENT
DTSTART;TZID=Asia/Tokyo:20260417T110000
DTEND;TZID=Asia/Tokyo:20260417T120000
DTSTAMP:20260423T192136
CREATED:20230404T003613Z
LAST-MODIFIED:20260302T034413Z
UID:2467-1776423600-1776427200@www.koishi.or.jp
SUMMARY:マタニティフィットネス/対面
DESCRIPTION:安産に大変効果的なエクササイズです。\nリズムにのって体を動かし、楽しく妊娠管理ができます。\n妊娠16週目から始めることをお勧めしており、週2回が理想的です。 \n＜対象＞\n妊娠５ヶ月以降の妊婦様 \n＜持ち物＞\n□　動きやすい服装\n□　タオル\n□　飲物等\n□　室内シューズ \n＜料金＞\n無料 \n＜注意事項＞\n初めて受講される方には医師の問診が必要です。（マタニティヨーガまたはマタニティウォーキングで医師の問診がお済みの方は不要） \n＠リンクまたは受付、お電話にてお申込み下さい。
URL:https://www.koishi.or.jp/event/tribe_events-2467/
CATEGORIES:対面教室
ATTACH;FMTTYPE=image/png:https://www.koishi.or.jp/wp-content/uploads/2022/11/アイキャッチ用.png
END:VEVENT
BEGIN:VEVENT
DTSTART;TZID=Asia/Tokyo:20260417T124500
DTEND;TZID=Asia/Tokyo:20260417T134500
DTSTAMP:20260423T192136
CREATED:20221230T061348Z
LAST-MODIFIED:20260302T042125Z
UID:2174-1776429900-1776433500@www.koishi.or.jp
SUMMARY:アフタービクス/対面
DESCRIPTION:産後の体力低下、体型の維持、ストレス解消、乳汁分泌の促進に効果的な運動です。 \n＜対象＞\n産後2ヶ月～1年半のお母様\n※お子様も一緒にご参加可 \n＜持ち物＞\n□　室内シューズ\n□　動きやすい服装\n□　タオル\n□　飲物等 \n＜料金＞\n有料（チケット制）\n受付にて事前に共通チケット（1枚1\,000円）のご購入をお願い致します。\n※退院時にプレゼント致しましたアフタービクスチケットをご利用いただけます。 \n＠リンクまたは受付、お電話にてお申込み下さい。
URL:https://www.koishi.or.jp/event/tribe_events-2174/
CATEGORIES:対面教室
ATTACH;FMTTYPE=image/png:https://www.koishi.or.jp/wp-content/uploads/2024/02/アイキャッチ用.png
END:VEVENT
END:VCALENDAR