BEGIN:VCALENDAR
VERSION:2.0
PRODID:-//愛知県豊橋市の産婦人科・小児科 - 小石マタニティクリニック - ECPv5.14.1//NONSGML v1.0//EN
CALSCALE:GREGORIAN
METHOD:PUBLISH
X-WR-CALNAME:愛知県豊橋市の産婦人科・小児科 - 小石マタニティクリニック
X-ORIGINAL-URL:https://www.koishi.or.jp
X-WR-CALDESC:Events for 愛知県豊橋市の産婦人科・小児科 - 小石マタニティクリニック
REFRESH-INTERVAL;VALUE=DURATION:PT1H
X-Robots-Tag:noindex
X-PUBLISHED-TTL:PT1H
BEGIN:VTIMEZONE
TZID:Asia/Tokyo
BEGIN:STANDARD
TZOFFSETFROM:+0900
TZOFFSETTO:+0900
TZNAME:JST
DTSTART:20260101T000000
END:STANDARD
END:VTIMEZONE
BEGIN:VEVENT
DTSTART;TZID=Asia/Tokyo:20260422T100000
DTEND;TZID=Asia/Tokyo:20260422T120000
DTSTAMP:20260423T191520
CREATED:20240507T055548Z
LAST-MODIFIED:20260302T031349Z
UID:5114-1776852000-1776859200@www.koishi.or.jp
SUMMARY:ハッピーママ教室（後期）/対面
DESCRIPTION:落ち着いた素晴らしい分娩をむかえられるよう、妊娠中の過ごし方から分娩の方法まで指導致します。\n日本ソフロロジー法研究会はこちら \n＜対象＞\n妊娠8～9ヶ月の妊婦様と立合いを希望されるご主人様 \n＜持ち物＞\n□　母子健康手帳\n□　筆記用具\n□　ファイル一式\n□　ズボン \n＜料金＞\n無料 \n＜注意事項＞\n・お子様連れでのご受講はご遠慮いただいております。\n・保育士によるお子様の預かりご希望の方は、完全予約制にて承ります。詳しくはこちらをご確認下さい。 \n＠リンクまたは受付、お電話にてお申込み下さい。
URL:https://www.koishi.or.jp/event/tribe_events-5114/
ATTACH;FMTTYPE=image/jpeg:https://www.koishi.or.jp/wp-content/uploads/2022/07/happymamakouki.jpg
END:VEVENT
BEGIN:VEVENT
DTSTART;TZID=Asia/Tokyo:20260422T103000
DTEND;TZID=Asia/Tokyo:20260422T113000
DTSTAMP:20260423T191520
CREATED:20230501T072904Z
LAST-MODIFIED:20260302T041721Z
UID:2577-1776853800-1776857400@www.koishi.or.jp
SUMMARY:リフレッシュエクササイズ～すこやか体操～/対面
DESCRIPTION:女性のライフコースにおける大切な時期に運動習慣をお勧めします。\n身体のバランスを整え、運動不足を解消し、気分転換、不定愁訴など、生活の一部に無理なく運動を取り入れましょう。 \n＜対象＞\n更年期前後の方や健康的な生活を目指す方 \n＜持ち物＞\n□　室内シューズ\n□　動きやすい服装\n□　タオル\n□　飲物等 \n＜料金＞\n有料（チケット制）\n受付にて事前に共通チケット（1枚1\,000円）のご購入をお願い致します。 \n＜場所＞ \nKMCウィメンズヘルスクリニック3階トレーニングルーム \n＠リンクまたは受付、お電話にてお申込み下さい。
URL:https://www.koishi.or.jp/event/tribe_events-2577/
END:VEVENT
BEGIN:VEVENT
DTSTART;TZID=Asia/Tokyo:20260422T133000
DTEND;TZID=Asia/Tokyo:20260422T150000
DTSTAMP:20260423T191520
CREATED:20240403T053251Z
LAST-MODIFIED:20260302T044512Z
UID:4755-1776864600-1776870000@www.koishi.or.jp
SUMMARY:マタニティヨーガ/対面
DESCRIPTION:体調を整え順調な出産をむかえるために有効です。\n心身共に快適になられ、より質の高いマタニティライフをお過ごしください。 \n＜対象＞\n妊娠５ヶ月以降の妊婦様 \n＜持ち物＞\n□　体をしめつけない服装\n□　タオル\n□　飲物等 \n＜料金＞\n無料 \n＜注意事項＞\n初めて受講される方には医師の問診が必要です。（マタニティフィットネスまたはマタニティウォーキングで医師の問診がお済みの方は不要） \n＠リンクまたは受付、お電話にてお申込み下さい。
URL:https://www.koishi.or.jp/event/tribe_events-4755/
ATTACH;FMTTYPE=image/png:https://www.koishi.or.jp/wp-content/uploads/2022/05/アイキャッチ用.png
END:VEVENT
END:VCALENDAR