BEGIN:VCALENDAR
VERSION:2.0
PRODID:-//愛知県豊橋市の産婦人科・小児科 - 小石マタニティクリニック - ECPv5.14.1//NONSGML v1.0//EN
CALSCALE:GREGORIAN
METHOD:PUBLISH
X-WR-CALNAME:愛知県豊橋市の産婦人科・小児科 - 小石マタニティクリニック
X-ORIGINAL-URL:https://www.koishi.or.jp
X-WR-CALDESC:Events for 愛知県豊橋市の産婦人科・小児科 - 小石マタニティクリニック
REFRESH-INTERVAL;VALUE=DURATION:PT1H
X-Robots-Tag:noindex
X-PUBLISHED-TTL:PT1H
BEGIN:VTIMEZONE
TZID:Asia/Tokyo
BEGIN:STANDARD
TZOFFSETFROM:+0900
TZOFFSETTO:+0900
TZNAME:JST
DTSTART:20240101T000000
END:STANDARD
END:VTIMEZONE
BEGIN:VEVENT
DTSTART;TZID=Asia/Tokyo:20250921T140000
DTEND;TZID=Asia/Tokyo:20250921T153000
DTSTAMP:20260423T192920
CREATED:20241216T010023Z
LAST-MODIFIED:20250818T023746Z
UID:2749-1758463200-1758468600@www.koishi.or.jp
SUMMARY:～小石クリニックpresents～  ママ・パパとお腹の赤ちゃんに贈る  胎教コンサート
DESCRIPTION:院内にて“９月の胎教コンサート”を開催いたします。 \nお腹の赤ちゃんも喜んでしまうリズミカルな曲、クラシック音楽からトレンドの楽曲、絵本の読み聞かせやキックゲーム等、幅広くお楽しみ頂けるプログラムをご準備し、皆様とお腹の赤ちゃんのご参加をお待ちしております！ \n是非お腹の赤ちゃんとご一緒に楽しいひと時をお過ごし下さいませ♡ \nスタッフ一同皆様のお越しをお待ちしております‼ \n  \n≪詳　細≫ \n日　時：２０２５年９月２１日（日） 開　場:１３：３０　開　演:１４：００ \n場　所：新館３Ｆセレブレーションホール \n参加費：無　料(完全予約制) \n対　象：当院にてご出産予定の妊婦様とお付き添いの方 \n※多くの赤ちゃんとお母様にお楽しみ頂きたい為、１組２席 \nとさせて頂きます。 \n  \n✿参加ご希望の方は、受付、＠リンク、お電話にてご予約下さい。 \n✿お電話での申し込みは０５３２-６６-１２１２(受付)にて承ります。 \n  \n≪参加される方の注意事項≫ \n◇風邪症状等ある方は当日確認させて頂き、場合によっては入場をお断りさせて頂く事もございます。 \n◇会場には、履物を脱いでお入り頂きます。 \n◇キャンセルされる場合は、早めにご連絡をお願い致します。 \n※アットリンクからご自身でのキャンセルも可能です。 \n◇お体の負担を考慮し演奏時間は、１時間半程度を予定しております。 \n途中で休憩をはさみます。 \n  \n何か不明な点がございましたらお気軽にご連絡下さいませ。 \n医療法人　小石マタニティクリニック \n総務部　０５３２－６３－８１２０ \n募集ポスターはこちらをご確認下さい。
URL:https://www.koishi.or.jp/event/tribe_events-2749/
END:VEVENT
BEGIN:VEVENT
DTSTART;VALUE=DATE:20241221
DTEND;VALUE=DATE:20250101
DTSTAMP:20260423T192920
CREATED:20231207T010012Z
LAST-MODIFIED:20241221T041651Z
UID:3510-1734739200-1735689599@www.koishi.or.jp
SUMMARY:～ 小石クリニックpresents ～  クリスマスコンサートYouTube配信
DESCRIPTION:2024年12月15日(日)に行われました、クリスマスコンサートをYouTubeにて配信致します。 \nピアノ・ヴァイオリンの美しい音色で、楽しいクリスマスのひと時をお過ごし下さいませ。 \n是非皆様ご一緒に“クリスマスコンサート”をYouTubeにてお楽しみ下さい。 \nご視聴は、＠リンクからご覧いただけます。 \n  \n☆配信期間：2024年12月21日(土)～12月31日(火) \nプログラムはこちら \n  \n※ご視聴にあたっての注意事項※ \n♪期間中は何度でもご視聴頂けますが、第三者に公開することは固くお断り致します。 \n♪動画の撮影、録音は一切禁止致します。ご了承下さいませ。 \n  \n※ご視聴にあたり、ご質問等ございましたらお気軽にご連絡下さいませ。 \n医療法人　小石マタニティクリニック \n総務部　０５３２－６３－８１２０
URL:https://www.koishi.or.jp/event/tribe_events-3510/
END:VEVENT
END:VCALENDAR